BEGIN:VCALENDAR
PRODID:-//Dokk 5//iCal4j 1.0//EN
VERSION:2.0
CALSCALE:GREGORIAN
BEGIN:VEVENT
DTSTAMP:20260425T223044Z
DTSTART;VALUE=DATE:20240117
SUMMARY:Versenytanácsi tárgyalás lesz a fogyasztókkal szembeni tisztesség
 telen kereskedelmi gyakorlat tilalmának feltételezett megsértése ügyében
  (Deutsche Lotto- und Sportwetten Limited)
LOCATION:null
DESCRIPTION:2024. január 17. (szerda) 11.00 órakor a GVH és a Deutsche Lo
 tto- und Sportwetten Limited között a fogyasztókkal szembeni tisztességt
 elen kereskedelmi gyakorlat tilalmának feltételezett megsértése ügyében 
 versenytanácsi tárgyalás lesz. Ügyiratszám: Vj-35/2022. A tárgyalás hely
 színe: 1026 Budapest\, Riadó utca 5. földszinti tárgyalóterem Tájékoztat
 ó a Versenytanács tárgyalásairól
UID:64df3c33-e642-4014-9988-3154656101fb
END:VEVENT
END:VCALENDAR
