BEGIN:VCALENDAR
PRODID:-//Dokk 5//iCal4j 1.0//EN
VERSION:2.0
CALSCALE:GREGORIAN
BEGIN:VEVENT
DTSTAMP:20260425T223038Z
DTSTART;VALUE=DATE:20231214
SUMMARY:Versenytanácsi tárgyalás lesz versenykorlátozó megállapodás ügyéb
 en (MAGYAR PLASTIROUTE és társai)
LOCATION:null
DESCRIPTION:2023. december 14. (csütörtök) 10.00 órakor a GVH és a MAGYAR
  PLASTIROUTE és társai között versenykorlátozó megállapodás ügyében vers
 enytanácsi tárgyalás lesz. Ügyiratszám: Vj-76/2014. Tájékoztató a Versen
 ytanács tárgyalásairól
UID:a393f067-e8f7-47bd-a2da-89947c0f4f73
END:VEVENT
END:VCALENDAR
