BEGIN:VCALENDAR
PRODID:-//Dokk 5//iCal4j 1.0//EN
VERSION:2.0
CALSCALE:GREGORIAN
BEGIN:VEVENT
DTSTAMP:20260425T223042Z
DTSTART;VALUE=DATE:20231113
SUMMARY:Versenytanácsi tárgyalás lesz jogellenes összehasonlító reklám ti
 lalmának\, illetve fogyasztókkal szembeni tisztességtelen kereskedelmi g
 yakorlat tilalmának feltételezett megsértése ügyében (Vodafone Magyarors
 zág Zrt.)
LOCATION:null
DESCRIPTION:2023. november 13. (hétfő) 13.00 órakor a GVH és a Vodafone M
 agyarország Zrt. között jogellenes összehasonlító reklám tilalmának\, il
 letve fogyasztókkal szembeni tisztességtelen kereskedelmi gyakorlat tila
 lmának feltételezett megsértése ügyében versenytanácsi tárgyalás lesz. Ü
 gyiratszám: Vj-46/2022. Tájékoztató a Versenytanács tárgyalásairól  
UID:bfaf77dc-8711-4014-be71-d118f3989875
END:VEVENT
END:VCALENDAR
