BEGIN:VCALENDAR
PRODID:-//Dokk 5//iCal4j 1.0//EN
VERSION:2.0
CALSCALE:GREGORIAN
BEGIN:VEVENT
DTSTAMP:20260425T223040Z
DTSTART;VALUE=DATE:20231025
SUMMARY:Versenytanácsi tárgyalás lesz a Vj/34/2019. számú versenyfelügyel
 eti eljárásban hozott határozatban kötelezővé tett vállalások teljesítés
 ének ellenőrzése ügyében (IBUSZ Utazási Irodák Kft.)
LOCATION:null
DESCRIPTION:2023. október 25. (szerda) 11.00 órakor a GVH és az IBUSZ Uta
 zási Irodák Kft. között a Vj/34/2019. számú versenyfelügyeleti eljárásba
 n hozott határozatban kötelezővé tett vállalások teljesítésének ellenőrz
 ése ügyében versenytanácsi tárgyalás lesz. Ügyiratszám: Vj-8/2023. A tár
 gyalás online\, Microsoft Teams-en keresztül kerül megtartásra\, a nyilv
 ánosság számára a részvétel előzetes regisztrációhoz kötött. Regisztráln
 i 2023. október 24. (kedd) 12.00 óráig lehet a vt-titkarsag@gvh.hu címre
  küldött e-mailen keresztül a részvételi e-mail cím és bejelentkezési né
 v megadásával. A regisztrációval kapcsolatos adatkezelési tájékoztató it
 t olvasható: Adatkezelési tájékoztató Tájékoztató a Versenytanács tárgya
 lásairól
UID:ee9a8c38-8cb7-42b1-9cf1-3e2e0695c058
END:VEVENT
END:VCALENDAR
