BEGIN:VCALENDAR
PRODID:-//Dokk 5//iCal4j 1.0//EN
VERSION:2.0
CALSCALE:GREGORIAN
BEGIN:VEVENT
DTSTAMP:20260425T223043Z
DTSTART;VALUE=DATE:20230926
SUMMARY:Versenytanácsi tárgyalás lesz fogyasztókkal szembeni tisztességte
 len kereskedelmi gyakorlat tilalmának feltételezett megsértése ügyében (
 Telemarketing International Kft.\, Mediashop Holding GmbH)
LOCATION:null
DESCRIPTION:2023. szeptember 26. (kedd) 13.30 órakor a GVH és a Telemarke
 ting International Kft.\, Mediashop Holding GmbH között fogyasztókkal sz
 embeni tisztességtelen kereskedelmi gyakorlat tilalmának feltételezett m
 egsértése ügyében versenytanácsi tárgyalás lesz. Ügyiratszám: Vj-45/2021
 . Tájékoztató a Versenytanács tárgyalásairól
UID:f8519b06-7c55-4fe1-a3d2-4d572b2fdd2d
END:VEVENT
END:VCALENDAR
