BEGIN:VCALENDAR
PRODID:-//Dokk 5//iCal4j 1.0//EN
VERSION:2.0
CALSCALE:GREGORIAN
BEGIN:VEVENT
DTSTAMP:20260425T223040Z
DTSTART;VALUE=DATE:20230906
SUMMARY:Versenytanácsi tárgyalás lesz a kereskedelemről szóló 2005. évi C
 LXIV. törvény 7/B. § (1) bekezdésben foglaltak feltételezett megsértése 
 ügyében (Dreher Zrt. és társa)
LOCATION:null
DESCRIPTION:2023. szeptember 6. (szerda) 10.00 órakor a GVH és a Dreher S
 örgyárak Zártkörűen Működő Részvénytársaság és társa között a kereskedel
 emről szóló 2005. évi CLXIV. törvény 7/B. § (1) bekezdésben foglaltak fe
 ltételezett megsértése ügyében versenytanácsi tárgyalás lesz. Ügyiratszá
 m: Vj-50/2021. Tájékoztató a Versenytanács tárgyalásairól
UID:76f5b92c-413a-4a5d-b28c-8c3893b3cb4e
END:VEVENT
END:VCALENDAR
