BEGIN:VCALENDAR
PRODID:-//Dokk 5//iCal4j 1.0//EN
VERSION:2.0
CALSCALE:GREGORIAN
BEGIN:VEVENT
DTSTAMP:20260425T223042Z
DTSTART;VALUE=DATE:20230901
SUMMARY:Versenytanácsi tárgyalás lesz a fogyasztókkal szembeni tisztesség
 telen kereskedelmi gyakorlat tilalmának feltételezett megsértése ügyében
  (eOptika Kft.)
LOCATION:null
DESCRIPTION:2023. szeptember 1. (péntek) 10.00 órakor a GVH és az eOptika
  Kft. között a fogyasztókkal szembeni tisztességtelen kereskedelmi gyako
 rlat tilalmának feltételezett megsértése ügyében versenytanácsi tárgyalá
 s lesz. Ügyiratszám: Vj-49/2022. A tárgyalás online\, a Microsoft Teams-
 en keresztül kerül megtartásra\, a nyilvánosság számára a részvétel előz
 etes regisztrációhoz kötött. Regisztrálni 2023. augusztus 31. (csütörtök
 ) 12.00 óráig lehet a vt-titkarsag@gvh.hu címre küldött e-mailen kereszt
 ül (a részvételi e-mail cím és bejelentkezési név megadásával). Tájékozt
 ató a Versenytanács tárgyalásairól        
UID:a48f9705-bd49-4c63-b7c1-ecb3205313f0
END:VEVENT
END:VCALENDAR
