BEGIN:VCALENDAR
PRODID:-//Dokk 5//iCal4j 1.0//EN
VERSION:2.0
CALSCALE:GREGORIAN
BEGIN:VEVENT
DTSTAMP:20260425T223042Z
DTSTART;VALUE=DATE:20230802
SUMMARY:Versenytanácsi tárgyalás lesz a fogyasztókkal szembeni tisztesség
 telen kereskedelmi gyakorlat tilalmának feltételezett megsértése ügyében
  (Viber Media S.á.r.l.)
LOCATION:null
DESCRIPTION:2023. augusztus 2. (szerda) 14.00 órakor a GVH és a Viber Med
 ia S.á.r.l. között a fogyasztókkal szembeni tisztességtelen kereskedelmi
  gyakorlat tilalmának feltételezett megsértése ügyében versenytanácsi tá
 rgyalás lesz. Ügyiratszám: Vj-6/2020. A tárgyalás helyszíne: 1026 Budape
 st\, Riadó utca 5. földszinti tárgyalóterem Tájékoztató a Versenytanács 
 tárgyalásairól    
UID:91edd888-4b24-4b84-9669-bef5e47c84fb
END:VEVENT
END:VCALENDAR
