BEGIN:VCALENDAR
PRODID:-//Dokk 5//iCal4j 1.0//EN
VERSION:2.0
CALSCALE:GREGORIAN
BEGIN:VEVENT
DTSTAMP:20260425T223043Z
DTSTART;VALUE=DATE:20230724
SUMMARY:Versenytanácsi tárgyalás lesz a fogyasztókkal szembeni tisztesség
 telen kereskedelmi gyakorlat tilalmának feltételezett megsértése ügyében
  (Media Markt Magyarország Kft.)
LOCATION:null
DESCRIPTION:2023. július 24. (hétfő) 14.00 órakor a GVH és a Media Markt 
 Magyarország Kft. között a fogyasztókkal szembeni tisztességtelen keresk
 edelmi gyakorlat tilalmának feltételezett megsértése ügyében versenytaná
 csi tárgyalás lesz. Ügyiratszám: Vj-8/2022. A tárgyalás helyszíne: 1026 
 Budapest\, Riadó utca 5. földszinti tárgyalóterem Tájékoztató a Versenyt
 anács tárgyalásairól  
UID:4e41e314-4f1f-4d6a-9b49-89c4a3932499
END:VEVENT
END:VCALENDAR
