BEGIN:VCALENDAR
PRODID:-//Dokk 5//iCal4j 1.0//EN
VERSION:2.0
CALSCALE:GREGORIAN
BEGIN:VEVENT
DTSTAMP:20260425T223038Z
DTSTART;VALUE=DATE:20230712
SUMMARY:Versenytanácsi tárgyalás lesz a fogyasztókkal szembeni tisztesség
 telen kereskedelmi gyakorlat tilalmának feltételezett megsértése ügyében
  (Magyar Telekom Nyrt.)
LOCATION:null
DESCRIPTION:2023. július 12. (szerda) 14.00 órakor a GVH és a Magyar Tele
 kom Nyrt. között a fogyasztókkal szembeni tisztességtelen kereskedelmi g
 yakorlat tilalmának feltételezett megsértése ügyében versenytanácsi tárg
 yalás lesz. Ügyiratszám: Vj-24/2022. A tárgyalás helyszíne: 1026 Budapes
 t\, Riadó utca 5. földszinti tárgyalóterem Tájékoztató a Versenytanács t
 árgyalásairól
UID:6828fb87-b7c2-4ae5-a3f2-b5abbe77f237
END:VEVENT
END:VCALENDAR
