BEGIN:VCALENDAR
PRODID:-//Dokk 5//iCal4j 1.0//EN
VERSION:2.0
CALSCALE:GREGORIAN
BEGIN:VEVENT
DTSTAMP:20260425T223039Z
DTSTART;VALUE=DATE:20240521
SUMMARY:Versenytanácsi tárgyalás nincs kitűzve a 2024. május 21-től 2024.
  május 24-ig terjedő időszakban
LOCATION:nullBudapest
DESCRIPTION:Tájékoztató a Versenytanács tárgyalásairól
UID:af286492-d364-4dfe-9049-78f72475f854
END:VEVENT
END:VCALENDAR
