BEGIN:VCALENDAR
PRODID:-//Dokk 5//iCal4j 1.0//EN
VERSION:2.0
CALSCALE:GREGORIAN
BEGIN:VEVENT
DTSTAMP:20260425T223037Z
DTSTART;VALUE=DATE:20230620
SUMMARY:Versenytanácsi tárgyalás lesz kereskedelemről szóló 2005. évi CLX
 IV. törvény 7/B. § (1) bekezdésben foglaltak feltételezett megsértése üg
 yében (Heineken Hungária Sörgyárak Zrt. és társa)
LOCATION:nullBudapest
DESCRIPTION:2023. június 20. (kedd) 10.00 órakor a GVH és a Heineken Hung
 ária Sörgyárak Zrt. és társa között kereskedelemről szóló 2005. évi CLXI
 V. törvény 7/B. § (1) bekezdésben foglaltak feltételezett megsértése ügy
 ében versenytanácsi tárgyalás lesz. Ügyiratszám: Vj-51/2021. A tárgyalás
  helyszíne: 1026 Budapest\, Riadó utca 5. földszinti tárgyalóterem Tájék
 oztató a Versenytanács tárgyalásairól
UID:52c81e1d-b35c-4b35-ae8f-9ecd3a91591f
END:VEVENT
END:VCALENDAR
