BEGIN:VCALENDAR
PRODID:-//Dokk 5//iCal4j 1.0//EN
VERSION:2.0
CALSCALE:GREGORIAN
BEGIN:VEVENT
DTSTAMP:20260425T223042Z
DTSTART;VALUE=DATE:20230424
SUMMARY:Versenytanácsi tárgyalás nincs kitűzve a 2023. április 24-től 202
 3. április 28-ig terjedő időszakban
LOCATION:null
DESCRIPTION:Tájékoztató a Versenytanács tárgyalásairól
UID:a1a234cd-5643-4a4a-b807-a556b8ead30b
END:VEVENT
END:VCALENDAR
