BEGIN:VCALENDAR
PRODID:-//Dokk 5//iCal4j 1.0//EN
VERSION:2.0
CALSCALE:GREGORIAN
BEGIN:VEVENT
DTSTAMP:20260425T223040Z
DTSTART;VALUE=DATE:20230413
SUMMARY:Versenytanácsi tárgyalás lesz összefonódás végrehajtása tilalmána
 k megsértése ügyében (DAKRON-Invest Kft.)
LOCATION:null
DESCRIPTION:2023. április 13. (csütörtök) 14.00 órakor a GVH és a DAKRON-
 Invest Kft. között összefonódás végrehajtása tilalmának megsértése ügyéb
 en versenytanácsi tárgyalás lesz. Ügyiratszám: Vj-40/2022. A tárgyalás h
 elyszíne: 1026 Budapest\, Riadó utca 5. földszinti tárgyalóterem Tájékoz
 tató a Versenytanács tárgyalásairól
UID:d6986661-d5da-41c3-9e32-67b99796d1a8
END:VEVENT
END:VCALENDAR
