BEGIN:VCALENDAR
PRODID:-//Dokk 5//iCal4j 1.0//EN
VERSION:2.0
CALSCALE:GREGORIAN
BEGIN:VEVENT
DTSTAMP:20260425T223038Z
DTSTART;VALUE=DATE:20230323
SUMMARY:Versenytanácsi tárgyalás lesz fogyasztókkal szembeni tisztességte
 len kereskedelmi gyakorlat tilalmának feltételezett megsértése ügyében (
 Norbi Update Lowcarb Zrt.)
LOCATION:null
DESCRIPTION:2023. március 23. (csütörtök) 14.00 órakor a GVH és a Norbi U
 pdate Lowcarb Zrt. között fogyasztókkal szembeni tisztességtelen kereske
 delmi gyakorlat tilalmának feltételezett megsértése ügyében versenytanác
 si tárgyalás lesz. Ügyiratszám: Vj-36/2021. A tárgyalás helyszíne: 1026 
 Budapest\, Riadó utca 5. földszinti tárgyalóterem Tájékoztató a Versenyt
 anács tárgyalásairól
UID:c2bfce55-5d42-4c51-a22c-68955b1b487a
END:VEVENT
END:VCALENDAR
