BEGIN:VCALENDAR
PRODID:-//Dokk 5//iCal4j 1.0//EN
VERSION:2.0
CALSCALE:GREGORIAN
BEGIN:VEVENT
DTSTAMP:20260425T223037Z
DTSTART;VALUE=DATE:20230301
SUMMARY:Versenytanácsi tárgyalás lesz fogyasztókkal szembeni tisztességte
 len kereskedelmi gyakorlat (megismételt eljárás) ügyében (Vodafone Magya
 rország Zrt.)
LOCATION:nullBudapest
DESCRIPTION:2023. március 1. (szerda) 14.00 órakor a GVH és a Vodafone Ma
 gyarország Zrt. között fogyasztókkal szembeni tisztességtelen kereskedel
 mi gyakorlat (megismételt eljárás) ügyében versenytanácsi tárgyalás lesz
 . Ügyiratszám: Vj-10/2022. A tárgyalás helyszíne: 1026 Budapest\, Riadó 
 utca 5. földszinti tárgyalóterem Tájékoztató a Versenytanács tárgyalásai
 ról
UID:af690252-ca4a-4452-86fd-733091a381be
END:VEVENT
END:VCALENDAR
