BEGIN:VCALENDAR
PRODID:-//Dokk 5//iCal4j 1.0//EN
VERSION:2.0
CALSCALE:GREGORIAN
BEGIN:VEVENT
DTSTAMP:20260425T223039Z
DTSTART;VALUE=DATE:20230220
SUMMARY:Versenytanácsi tárgyalás nincs kitűzve a 2023. február 20-tól 202
 3. február 24-ig terjedő időszakban
LOCATION:null
DESCRIPTION:
UID:3641b9d5-1201-45c3-a0d9-2b3b224fa111
END:VEVENT
END:VCALENDAR
