BEGIN:VCALENDAR
PRODID:-//Dokk 5//iCal4j 1.0//EN
VERSION:2.0
CALSCALE:GREGORIAN
BEGIN:VEVENT
DTSTAMP:20260425T223039Z
DTSTART;VALUE=DATE:20230209
SUMMARY:Versenytanácsi tárgyalás lesz gazdasági versenyt korlátozó megáll
 apodás tilalmának feltételezett megsértése ügyében (Dunai Személyszállít
 ó Kft.\, Hajózni Jó Kft.)
LOCATION:null
DESCRIPTION:2023. február 9. (csütörtök) 14.00 órakor a GVH és a Dunai Sz
 emélyszállító Kft.\, Hajózni Jó Kft. között gazdasági versenyt korlátozó
  megállapodás tilalmának feltételezett megsértése ügyében versenytanácsi
  tárgyalás lesz. Ügyiratszám: Vj-29/2021. A tárgyalás helyszíne: 1026 Bu
 dapest\, Riadó utca 5. földszinti tárgyalóterem Tájékoztató a Versenytan
 ács tárgyalásairól
UID:28556aee-a6f1-4b1c-9482-33dbc6812902
END:VEVENT
END:VCALENDAR
