BEGIN:VCALENDAR
PRODID:-//Dokk 5//iCal4j 1.0//EN
VERSION:2.0
CALSCALE:GREGORIAN
BEGIN:VEVENT
DTSTAMP:20260425T223038Z
DTSTART;VALUE=DATE:20230123
SUMMARY:Versenytanácsi tárgyalás nincs kitűzve a 2023. január 23-tól 2023
 . január 27-ig terjedő időszakban
LOCATION:null
DESCRIPTION:
UID:112ac2ca-41f1-4cdc-b73e-9fcc48c0da9e
END:VEVENT
END:VCALENDAR
