BEGIN:VCALENDAR
PRODID:-//Dokk 5//iCal4j 1.0//EN
VERSION:2.0
CALSCALE:GREGORIAN
BEGIN:VEVENT
DTSTAMP:20260425T223043Z
DTSTART;VALUE=DATE:20230112
SUMMARY:Versenytanácsi tárgyalás lesz a fogyasztókkal szembeni tisztesség
 telen kereskedelmi gyakorlat tilalmának feltételezett megsértése ügyében
  (Helvetia Direct Marketing s.r.o. és társa)
LOCATION:null
DESCRIPTION:2023. január 12. (csütörtök) 10.00 órakor a GVH és a Helvetia
  Direct Marketing s.r.o. és társa között a fogyasztókkal szembeni tiszte
 sségtelen kereskedelmi gyakorlat tilalmának feltételezett megsértése ügy
 ében versenytanácsi tárgyalás lesz. Ügyiratszám: Vj-42/2020. A tárgyalás
  helyszíne: 1026 Budapest\, Riadó utca 5. földszinti tárgyalóterem Tájék
 oztató a Versenytanács tárgyalásairól
UID:25146d31-dfd0-473e-9346-fff4116f904b
END:VEVENT
END:VCALENDAR
