BEGIN:VCALENDAR
PRODID:-//Dokk 5//iCal4j 1.0//EN
VERSION:2.0
CALSCALE:GREGORIAN
BEGIN:VEVENT
DTSTAMP:20260425T223036Z
DTSTART;VALUE=DATE:20221124
SUMMARY:Versenytanácsi tárgyalás lesz a fogyasztókkal szembeni tisztesség
 telen kereskedelmi gyakorlat tilalmának feltételezett megsértése ügyében
  (Vöröskő Kereskedelmi és Szolgáltató Kft.)
LOCATION:null
DESCRIPTION:2022. november 24. (csütörtök) 13.00 órakor a GVH és a Vörösk
 ő Kereskedelmi és Szolgáltató Kft. között a fogyasztókkal szembeni tiszt
 ességtelen kereskedelmi gyakorlat tilalmának feltételezett megsértése üg
 yében versenytanácsi tárgyalás lesz. Ügyiratszám: Vj-9/2022. A tárgyalás
  helyszíne: 1026 Budapest\, Riadó utca 5. földszinti tárgyalóterem Tájék
 oztató a Versenytanács tárgyalásairól
UID:d39e5baf-ee80-479b-a07a-4cb75c38c4f0
END:VEVENT
END:VCALENDAR
