BEGIN:VCALENDAR
PRODID:-//Dokk 5//iCal4j 1.0//EN
VERSION:2.0
CALSCALE:GREGORIAN
BEGIN:VEVENT
DTSTAMP:20260425T223036Z
DTSTART;VALUE=DATE:20221124
SUMMARY:Versenytanácsi tárgyalás lesz a kereskedelemről szóló 2005. évi C
 LXIV. törvény 7/B. § (2) bekezdésben foglaltak feltételezett megsértése 
 ügyében (AmRest Vendéglátó Korlátolt Felelősségű Társaság)
LOCATION:null
DESCRIPTION:2022. november 24. (csütörtök) 10.00 órakor a GVH és az AmRes
 t Vendéglátó Korlátolt Felelősségű Társaság között a kereskedelemről szó
 ló 2005. évi CLXIV. törvény 7/B. § (2) bekezdésben foglaltak feltételeze
 tt megsértése ügyében versenytanácsi tárgyalás lesz. Ügyiratszám: Vj-52/
 2021. A tárgyalás helyszíne: 1026 Budapest\, Riadó utca 5. földszinti tá
 rgyalóterem Tájékoztató a Versenytanács tárgyalásairól
UID:40e6ec02-2d77-4112-8cc3-c9f3c06b2541
END:VEVENT
END:VCALENDAR
