BEGIN:VCALENDAR
PRODID:-//Dokk 5//iCal4j 1.0//EN
VERSION:2.0
CALSCALE:GREGORIAN
BEGIN:VEVENT
DTSTAMP:20260425T223044Z
DTSTART;VALUE=DATE:20221123
SUMMARY:Versenytanácsi tárgyalás lesz VJ/50/2018. számú versenyfelügyelet
 i eljárásban hozott határozat mellékletének I. és II. pontjában előírt k
 ötelezettségek teljesítésének ellenőrzése ügyében (Dante International S
 .A. és társa)
LOCATION:null
DESCRIPTION:2022. november 23. (szerda) 13.00 órakor a GVH és a Dante Int
 ernational S.A. és társa között VJ/50/2018. számú versenyfelügyeleti elj
 árásban hozott határozat mellékletének I. és II. pontjában előírt kötele
 zettségek teljesítésének ellenőrzése ügyében versenytanácsi tárgyalás le
 sz. Ügyiratszám: Vj-47/2021. A tárgyalás helyszíne: 1026 Budapest\, Riad
 ó utca 5. földszinti tárgyalóterem Tájékoztató a Versenytanács tárgyalás
 airól
UID:e2f3d243-febb-4349-a575-10a0f5f7e9f8
END:VEVENT
END:VCALENDAR
