BEGIN:VCALENDAR
PRODID:-//Dokk 5//iCal4j 1.0//EN
VERSION:2.0
CALSCALE:GREGORIAN
BEGIN:VEVENT
DTSTAMP:20260425T223044Z
DTSTART;VALUE=DATE:20221110
SUMMARY:Versenytanácsi tárgyalás lesz fogyasztókkal szembeni tisztességte
 len kereskedelmi gyakorlat tilalmának feltételezett megsértése ügyében (
 HELL ENERGY Magyarország Kft. és társa)
LOCATION:null
DESCRIPTION:2022. november 10. (csütörtök) 10.00 órakor a GVH és a HELL E
 NERGY Magyarország Kft. és társa között fogyasztókkal szembeni tisztessé
 gtelen kereskedelmi gyakorlat tilalmának feltételezett megsértése ügyébe
 n versenytanácsi tárgyalás lesz. Ügyiratszám: Vj-12/2022. A tárgyalás he
 lyszíne: 1026 Budapest\, Riadó utca 5. földszinti tárgyalóterem Tájékozt
 ató a Versenytanács tárgyalásairól
UID:947940c6-0fe6-42d9-a526-b16af3a33407
END:VEVENT
END:VCALENDAR
