BEGIN:VCALENDAR
PRODID:-//Dokk 5//iCal4j 1.0//EN
VERSION:2.0
CALSCALE:GREGORIAN
BEGIN:VEVENT
DTSTAMP:20260425T223038Z
DTSTART;VALUE=DATE:20221024
SUMMARY:Versenytanácsi tárgyalás lesz fogyasztókkal szembeni tisztességte
 len kereskedelmi gyakorlat tilalmának feltételezett megsértése ügyében (
 NATURTEX Gyapjú- és Tollfeldolgozó Kft.)
LOCATION:null
DESCRIPTION:2022. október 24. (hétfő) 11.00 órakor a GVH és a NATURTEX Gy
 apjú- és Tollfeldolgozó Kft. között fogyasztókkal szembeni tisztességtel
 en kereskedelmi gyakorlat tilalmának feltételezett megsértése ügyében ve
 rsenytanácsi tárgyalás lesz. Ügyiratszám: Vj-14/2021. A tárgyalás helysz
 íne: 1026 Budapest\, Riadó utca 5. földszinti tárgyalóterem Tájékoztató 
 a Versenytanács tárgyalásairól
UID:2d463523-fdc5-49c4-955a-97e2f59245ae
END:VEVENT
END:VCALENDAR
