BEGIN:VCALENDAR
PRODID:-//Dokk 5//iCal4j 1.0//EN
VERSION:2.0
CALSCALE:GREGORIAN
BEGIN:VEVENT
DTSTAMP:20260425T223036Z
DTSTART;VALUE=DATE:20220928
SUMMARY:Versenytanácsi tárgyalás lesz jogsértő reklámozás tilalmának felt
 ételezett megsértése ügyében (Siren7 Kft. „f.a.” és társai)
LOCATION:null
DESCRIPTION:2022. szeptember 28. (szerda) 14.00 órakor a GVH és a Siren7 
 Kft. „f.a.” és társai között jogsértő reklámozás tilalmának feltételezet
 t megsértése ügyében versenytanácsi tárgyalás lesz. Ügyiratszám: Vj-37/2
 021. A tárgyalás helyszíne: 1026 Budapest\, Riadó utca 5. földszinti tár
 gyalóterem Tájékoztató a Versenytanács tárgyalásairól
UID:fa65dae1-dcb4-4581-a85d-daff32ff749f
END:VEVENT
END:VCALENDAR
