BEGIN:VCALENDAR
PRODID:-//Dokk 5//iCal4j 1.0//EN
VERSION:2.0
CALSCALE:GREGORIAN
BEGIN:VEVENT
DTSTAMP:20260425T223037Z
DTSTART;VALUE=DATE:20220727
SUMMARY:Versenytanácsi tárgyalás lesz fogyasztókkal szembeni tisztességte
 len kereskedelmi gyakorlat tilalmának feltételezett megsértése ügyében (
 Vodafone Magyarország Zrt.)
LOCATION:null
DESCRIPTION:2022. július 27. (szerda) 10.00 órakor a GVH és a Vodafone Ma
 gyarország Zrt. között fogyasztókkal szembeni tisztességtelen kereskedel
 mi gyakorlat tilalmának feltételezett megsértése ügyében versenytanácsi 
 tárgyalás lesz a GVH földszinti tárgyalótermében. Ügyiratszám: Vj-1/2021
 . Tájékoztató a Versenytanács tárgyalásairól
UID:deb922bc-da10-48bc-b17b-da7b68f25258
END:VEVENT
END:VCALENDAR
