BEGIN:VCALENDAR
PRODID:-//Dokk 5//iCal4j 1.0//EN
VERSION:2.0
CALSCALE:GREGORIAN
BEGIN:VEVENT
DTSTAMP:20260425T223036Z
DTSTART;VALUE=DATE:20220706
SUMMARY:Versenytanácsi tárgyalás lesz fogyasztókkal szembeni tisztességte
 len kereskedelmi gyakorlat tilalmának feltételezett megsértése ügyében (
 Digi Kft.)
LOCATION:null
DESCRIPTION:2022. július 6. (szerda) 14.00 órakor a GVH és a Digi Kft. kö
 zött fogyasztókkal szembeni tisztességtelen kereskedelmi gyakorlat tilal
 mának feltételezett megsértése ügyében versenytanácsi tárgyalás lesz a G
 VH földszinti tárgyalótermében. Ügyiratszám: Vj-44/2020. Tájékoztató a V
 ersenytanács tárgyalásairól
UID:a4ffc946-5f63-43f1-8054-55cd5a7998a5
END:VEVENT
END:VCALENDAR
