BEGIN:VCALENDAR
PRODID:-//Dokk 5//iCal4j 1.0//EN
VERSION:2.0
CALSCALE:GREGORIAN
BEGIN:VEVENT
DTSTAMP:20260425T223037Z
DTSTART;VALUE=DATE:20220601
SUMMARY:Versenytanácsi tárgyalás lesz gazdasági versenyt korlátozó megáll
 apodás tilalmának feltételezett megsértése ügyében (Yamaha Music Europe 
 GmbH és társai)
LOCATION:null
DESCRIPTION:2022. június 1. (szerda) 10.00 órakor a GVH és a Yamaha Music
  Europe GmbH és társai között gazdasági versenyt korlátozó megállapodás 
 tilalmának feltételezett megsértése ügyében versenytanácsi tárgyalás les
 z a GVH földszinti tárgyalótermében. Ügyiratszám: Vj-8/2018. Tájékoztató
  a Versenytanács tárgyalásairól
UID:e4dbbff6-340e-4e31-aa17-f80bec74831d
END:VEVENT
END:VCALENDAR
