BEGIN:VCALENDAR
PRODID:-//Dokk 5//iCal4j 1.0//EN
VERSION:2.0
CALSCALE:GREGORIAN
BEGIN:VEVENT
DTSTAMP:20260425T223037Z
DTSTART;VALUE=DATE:20220518
SUMMARY:Versenytanácsi tárgyalás lesz fogyasztókkal szembeni tisztességte
 len kereskedelmi gyakorlat ügyében (DIGI Távközlési és Szolgáltató Kft.)
 
LOCATION:null
DESCRIPTION:2022. május 18. (szerda) 13.00 órakor a GVH és a DIGI Távközl
 ési és Szolgáltató Kft. között fogyasztókkal szembeni tisztességtelen ke
 reskedelmi gyakorlat ügyében versenytanácsi tárgyalás lesz a GVH földszi
 nti tárgyalótermében. Ügyiratszám: Vj-44/2020. Tájékoztató a Versenytaná
 cs tárgyalásairól
UID:c57bc4c4-6782-4636-bc3c-4178b0b78046
END:VEVENT
END:VCALENDAR
