BEGIN:VCALENDAR
PRODID:-//Dokk 5//iCal4j 1.0//EN
VERSION:2.0
CALSCALE:GREGORIAN
BEGIN:VEVENT
DTSTAMP:20260425T223036Z
DTSTART;VALUE=DATE:20220512
SUMMARY:Versenytanácsi tárgyalás lesz fogyasztókkal szembeni tisztességte
 len kereskedelmi gyakorlat tilalmának tárgyában folytatott VJ/13/2018. s
 zámú versenyfelügyeleti eljárásban született határozat részleges hatályo
 n kívül helyezése folytán indult megismételt eljárás ügyében (Yettel Mag
 yarország Zrt.)
LOCATION:null
DESCRIPTION:2022. május 12. (csütörtök) 10.00 órakor a GVH és a Yettel Ma
 gyarország Zrt. között fogyasztókkal szembeni tisztességtelen kereskedel
 mi gyakorlat tilalmának tárgyában folytatott VJ/13/2018. számú versenyfe
 lügyeleti eljárásban született határozat részleges hatályon kívül helyez
 ése folytán indult megismételt eljárás ügyében versenytanácsi tárgyalás 
 lesz a GVH földszinti tárgyalótermében. Ügyiratszám: Vj-33/2021. Tájékoz
 tató a Versenytanács tárgyalásairól
UID:4390fb87-faa5-405d-8040-70b9af81181a
END:VEVENT
END:VCALENDAR
