BEGIN:VCALENDAR
PRODID:-//Dokk 5//iCal4j 1.0//EN
VERSION:2.0
CALSCALE:GREGORIAN
BEGIN:VEVENT
DTSTAMP:20260425T223038Z
DTSTART;VALUE=DATE:20220404
SUMMARY:Versenytanácsi tárgyalás lesz fogyasztókkal szembeni tisztességte
 len kereskedelmi gyakorlat tilalmának feltételezett megsértése ügyében (
 P4R Digital Agency Kft.\, Social Guru Magyarország Kft.\, hd OPEN! Kft.\
 , Globoport Média Holding Kft. - Bongo)
LOCATION:null
DESCRIPTION:2022. április 4. (hétfő) 14.00 órakor a GVH és a P4R Digital 
 Agency Kft.\, Social Guru Magyarország Kft.\, hd OPEN! Kft.\, Globoport 
 Média Holding Kft. - Bongo között fogyasztókkal szembeni tisztességtelen
  kereskedelmi gyakorlat tilalmának feltételezett megsértése ügyében vers
 enytanácsi tárgyalás lesz a GVH földszinti tárgyalótermében. Ügyiratszám
 : Vj-40/2021. Tájékoztató a Versenytanács tárgyalásairól
UID:10780618-4d77-4128-9037-9faa373bcde0
END:VEVENT
END:VCALENDAR
