BEGIN:VCALENDAR
PRODID:-//Dokk 5//iCal4j 1.0//EN
VERSION:2.0
CALSCALE:GREGORIAN
BEGIN:VEVENT
DTSTAMP:20260425T223044Z
DTSTART;VALUE=DATE:20220215
SUMMARY:Versenytanácsi tárgyalás lesz fogyasztókkal szembeni tisztességte
 len kereskedelmi gyakorlat tilalmának feltételezett megsértése ügyében (
 Whitening Solutions Kft. és társai)
LOCATION:null
DESCRIPTION:2022. február 15. (kedd) 14.00 órakor a GVH és a Whitening So
 lutions Kft. és társai között fogyasztókkal szembeni tisztességtelen ker
 eskedelmi gyakorlat tilalmának feltételezett megsértése ügyében versenyt
 anácsi tárgyalás lesz a GVH földszinti tárgyalótermében. Ügyiratszám: Vj
 -45/2020. Tájékoztató a Versenytanács tárgyalásairól
UID:e5eb60f7-e3c8-439c-9edb-70c9b80d4de5
END:VEVENT
END:VCALENDAR
