BEGIN:VCALENDAR
PRODID:-//Dokk 5//iCal4j 1.0//EN
VERSION:2.0
CALSCALE:GREGORIAN
BEGIN:VEVENT
DTSTAMP:20260425T223040Z
DTSTART;VALUE=DATE:20220131
SUMMARY:Versenytanácsi tárgyalás lesz fogyasztókkal szembeni tisztességte
 len kereskedelmi gyakorlat tilalmának feltételezett megsértése ügyében (
 MEDITOP Gyógyszeripari Kft.)
LOCATION:null
DESCRIPTION:2022. január 31. (hétfő) 9.30 órakor a GVH és a MEDITOP Gyógy
 szeripari Kft. között fogyasztókkal szembeni tisztességtelen kereskedelm
 i gyakorlat tilalmának feltételezett megsértése ügyében versenytanácsi t
 árgyalás lesz a GVH földszinti tárgyalótermében. Ügyiratszám: Vj-27/2021
 . Tájékoztató a Versenytanács tárgyalásairól
UID:26fb8592-ce0d-400f-9d21-e6d594df04a2
END:VEVENT
END:VCALENDAR
