BEGIN:VCALENDAR
PRODID:-//Dokk 5//iCal4j 1.0//EN
VERSION:2.0
CALSCALE:GREGORIAN
BEGIN:VEVENT
DTSTAMP:20260425T223039Z
DTSTART;VALUE=DATE:20211125
SUMMARY:Versenytanácsi tárgyalás lesz fogyasztókkal szembeni tisztességte
 len kereskedelmi gyakorlat tilalmának feltételezett megsértése ügyében (
 Nutriversum Kft.)
LOCATION:null
DESCRIPTION:2021. november 25. (csütörtök) 10.00 órakor a GVH és a Nutriv
 ersum Kft. között fogyasztókkal szembeni tisztességtelen kereskedelmi gy
 akorlat tilalmának feltételezett megsértése ügyében versenytanácsi tárgy
 alás lesz a GVH földszinti tárgyalótermében. Ügyiratszám: Vj-35/2020. Tá
 jékoztató a Versenytanács tárgyalásairól  
UID:ab349632-fc2e-4872-acfd-73f5d44ae8db
END:VEVENT
END:VCALENDAR
