BEGIN:VCALENDAR
PRODID:-//Dokk 5//iCal4j 1.0//EN
VERSION:2.0
CALSCALE:GREGORIAN
BEGIN:VEVENT
DTSTAMP:20260425T223044Z
DTSTART;VALUE=DATE:20211021
SUMMARY:Versenytanácsi tárgyalás lesz gazdasági versenyt korlátozó megáll
 apodás tilalmának feltételezett megsértése ügyében (GE Hungary Kft. és t
 ársai)
LOCATION:null
DESCRIPTION:2021. október 21. (csütörtök) 10.00 órakor a GVH és a GE Hung
 ary Kft. és társai között gazdasági versenyt korlátozó megállapodás tila
 lmának feltételezett megsértése ügyében versenytanácsi tárgyalás lesz a 
 GVH földszinti tárgyalótermében. Ügyiratszám: Vj-47/2016. Tájékoztató a 
 Versenytanács tárgyalásairól
UID:8a9885f9-74f0-4474-870b-89bcb394d49d
END:VEVENT
END:VCALENDAR
