BEGIN:VCALENDAR
PRODID:-//Dokk 5//iCal4j 1.0//EN
VERSION:2.0
CALSCALE:GREGORIAN
BEGIN:VEVENT
DTSTAMP:20260425T223043Z
DTSTART;VALUE=DATE:20211006
SUMMARY:Versenytanácsi tárgyalás lesz fogyasztókkal szembeni tisztességte
 len kereskedelmi gyakorlat tilalmának feltételezett megsértése ügyében (
 HelloPay Zrt.)
LOCATION:null
DESCRIPTION:2021. október 6. (szerda) 14.00 órakor a GVH és a HelloPay Zr
 t. között fogyasztókkal szembeni tisztességtelen kereskedelmi gyakorlat 
 tilalmának feltételezett megsértése ügyében versenytanácsi tárgyalás les
 z a GVH földszinti tárgyalótermében. Ügyiratszám: Vj-31/2020. Tájékoztat
 ó a Versenytanács tárgyalásairól
UID:b378970b-94b2-46ca-a76b-e375cbdcde60
END:VEVENT
END:VCALENDAR
