BEGIN:VCALENDAR
PRODID:-//Dokk 5//iCal4j 1.0//EN
VERSION:2.0
CALSCALE:GREGORIAN
BEGIN:VEVENT
DTSTAMP:20260425T223041Z
DTSTART;VALUE=DATE:20210916
SUMMARY:Versenytanácsi tárgyalás lesz fogyasztókkal szembeni tisztességte
 len kereskedelmi gyakorlat tilalmának feltételezett megsértése ügyében (
 Reckitt Benckiser Kereskedelmi Kft.)
LOCATION:null
DESCRIPTION:2021. szeptember 16. (csütörtök) 14.00 órakor a GVH és a Reck
 itt Benckiser Kereskedelmi Kft. között fogyasztókkal szembeni tisztesség
 telen kereskedelmi gyakorlat tilalmának feltételezett megsértése ügyében
  versenytanácsi tárgyalás lesz a GVH földszinti tárgyalótermében. Ügyira
 tszám: Vj-12/2020. Tájékoztató a Versenytanács tárgyalásairól
UID:b60b148f-069d-402e-909d-f9e4d88569bb
END:VEVENT
END:VCALENDAR
