BEGIN:VCALENDAR
PRODID:-//Dokk 5//iCal4j 1.0//EN
VERSION:2.0
CALSCALE:GREGORIAN
BEGIN:VEVENT
DTSTAMP:20260425T223044Z
DTSTART;VALUE=DATE:20210915
SUMMARY:Versenytanácsi tárgyalás lesz fogyasztókkal szembeni tisztességte
 len kereskedelmi gyakorlat tilalmának feltételezett megsértése ügyében (
 Product of the Year Hungary Kft.)
LOCATION:null
DESCRIPTION:2021. szeptember 15. (szerda) 10.00 órakor a GVH és a Product
  of the Year Hungary Kft. között fogyasztókkal szembeni tisztességtelen 
 kereskedelmi gyakorlat tilalmának feltételezett megsértése ügyében verse
 nytanácsi tárgyalás lesz a GVH földszinti tárgyalótermében. Ügyiratszám:
  Vj-8/2021. Tájékoztató a Versenytanács tárgyalásairól
UID:944ed013-c2ff-4cef-a06e-d230c2a693cc
END:VEVENT
END:VCALENDAR
