BEGIN:VCALENDAR
PRODID:-//Dokk 5//iCal4j 1.0//EN
VERSION:2.0
CALSCALE:GREGORIAN
BEGIN:VEVENT
DTSTAMP:20260425T223044Z
DTSTART;VALUE=DATE:20210907
SUMMARY:Versenytanácsi tárgyalás lesz fogyasztókkal szembeni tisztességte
 len kereskedelmi gyakorlat tilalmának feltételezett megsértése ügyében (
 Magyar Telekom Nyrt.)
LOCATION:null
DESCRIPTION:2021. szeptember 7. (kedd) 14.00 órakor a GVH és a Magyar Tel
 ekom Nyrt.között fogyasztókkal szembeni tisztességtelen kereskedelmi gya
 korlat tilalmának feltételezett megsértése ügyében versenytanácsi tárgya
 lás lesz a GVH földszinti tárgyalótermében. Ügyiratszám: Vj-32/2020. Táj
 ékoztató a Versenytanács tárgyalásairól
UID:32ebde14-2e27-4772-90a6-b3f7553b16f4
END:VEVENT
END:VCALENDAR
