BEGIN:VCALENDAR
PRODID:-//Dokk 5//iCal4j 1.0//EN
VERSION:2.0
CALSCALE:GREGORIAN
BEGIN:VEVENT
DTSTAMP:20260425T223036Z
DTSTART;VALUE=DATE:20210803
SUMMARY:Versenytanácsi tárgyalás lesz fogyasztókkal szembeni tisztességte
 len kereskedelmi gyakorlat tilalmának feltételezett megsértése ügyében (
 Viagogo AG)
LOCATION:null
DESCRIPTION:2021. augusztus 3. (kedd) 14.00 órakor a GVH és a Viagogo AG 
 között fogyasztókkal szembeni tisztességtelen kereskedelmi gyakorlat til
 almának feltételezett megsértése ügyében versenytanácsi tárgyalás lesz a
  GVH földszinti tárgyalótermében. Ügyiratszám: Vj-42/2019. Tájékoztató a
  Versenytanács tárgyalásairól
UID:a715276b-2103-41cd-8f4b-527ca9c2f396
END:VEVENT
END:VCALENDAR
