BEGIN:VCALENDAR
PRODID:-//Dokk 5//iCal4j 1.0//EN
VERSION:2.0
CALSCALE:GREGORIAN
BEGIN:VEVENT
DTSTAMP:20260426T000914Z
DTSTART;VALUE=DATE:20210802
SUMMARY:Versenytanácsi tárgyalás lesz gazdasági versenyt korlátozó megáll
 apodás tilalmának feltételezett megsértése ügyében (Tempel Kereskedelmi 
 és Szolgáltató Kft. és társa)
LOCATION:nullBudapest
DESCRIPTION:2021. augusztus 2. (hétfő) 14.00 órakor a GVH és a Tempel Ker
 eskedelmi és Szolgáltató Kft. és társa között gazdasági versenyt korláto
 zó megállapodás tilalmának feltételezett megsértése ügyében versenytanác
 si tárgyalás lesz a GVH földszinti tárgyalótermében. Ügyiratszám: Vj-10/
 2018. Tájékoztató a Versenytanács tárgyalásairól
UID:b345b124-ff9c-4421-b36f-8bcbc400d1b0
END:VEVENT
END:VCALENDAR
