BEGIN:VCALENDAR
PRODID:-//Dokk 5//iCal4j 1.0//EN
VERSION:2.0
CALSCALE:GREGORIAN
BEGIN:VEVENT
DTSTAMP:20260425T223038Z
DTSTART;VALUE=DATE:20210429
SUMMARY:ONLINE versenytanácsi tárgyalás lesz fogyasztókkal szembeni tiszt
 ességtelen kereskedelmi gyakorlat ügyében (Max-Immun Rák- és Immunkutató
  Kft.)
LOCATION:null
DESCRIPTION:2021. április 29. (csütörtök) 10.00 órakor a GVH és a Max-Imm
 un Rák- és Immunkutató Kft. között fogyasztókkal szembeni tisztességtele
 n kereskedelmi gyakorlat ügyében versenytanácsi tárgyalás lesz.Ügyiratsz
 ám: Vj-22/2020. A tárgyalás – a veszélyhelyzetre való tekintettel – onli
 ne\, a Microsoft Teams-en keresztül kerül megtartásra\, a nyilvánosság s
 zámára a részvétel előzetes regisztrációhoz kötött. Regisztrálni 2021. á
 prilis 28. (szerda) 12.00 óráig lehet a vt-titkarsag@gvh.hu címre küldöt
 t e-mailen keresztül (a részvételi e-mailcím és bejelentkezési név megad
 ásával). Tájékoztató a Versenytanács tárgyalásairól
UID:4aa1ffce-0bf9-4cc7-8f82-f022f50b8f18
END:VEVENT
END:VCALENDAR
