BEGIN:VCALENDAR
PRODID:-//Dokk 5//iCal4j 1.0//EN
VERSION:2.0
CALSCALE:GREGORIAN
BEGIN:VEVENT
DTSTAMP:20260425T223039Z
DTSTART;VALUE=DATE:20210422
SUMMARY:ONLINE versenytanácsi tárgyalás lesz fogyasztókkal szembeni tiszt
 ességtelen kereskedelmi gyakorlat ügyében (Global AQA Pty Ltd. és társai
 )
LOCATION:null
DESCRIPTION:2021. április 22. (csütörtök) 10.00 órakor a GVH és a Global 
 AQA Pty Ltd. és társai között fogyasztókkal szembeni tisztességtelen ker
 eskedelmi gyakorlat ügyében versenytanácsi tárgyalás lesz.Ügyiratszám: V
 j-3/2020. A tárgyalás – a veszélyhelyzetre való tekintettel – online\, a
  Microsoft Teams-en keresztül kerül megtartásra\, a nyilvánosság számára
  a részvétel előzetes regisztrációhoz kötött. Regisztrálni 2021. április
  21. (szerda) 12.00 óráig lehet a vt-titkarsag@gvh.hu címre küldött e-ma
 ilen keresztül (a részvételi e-mailcím és bejelentkezési név megadásával
 ). Tájékoztató a Versenytanács tárgyalásairól
UID:e83674da-9c0c-43de-b215-b3b354fdd68a
END:VEVENT
END:VCALENDAR
