BEGIN:VCALENDAR
PRODID:-//Dokk 5//iCal4j 1.0//EN
VERSION:2.0
CALSCALE:GREGORIAN
BEGIN:VEVENT
DTSTAMP:20260425T223044Z
DTSTART;VALUE=DATE:20210413
SUMMARY:ONLINE versenytanácsi tárgyalás lesz fogyasztókkal szembeni tiszt
 ességtelen kereskedelmi gyakorlat ügyében (NTH AG és társai)
LOCATION:null
DESCRIPTION:2021. április 13. (kedd) 14.00 órakor a GVH és az NTH AG és t
 ársai között fogyasztókkal szembeni tisztességtelen kereskedelmi gyakorl
 at ügyében versenytanácsi tárgyalás lesz.Ügyiratszám: Vj-39/2019. A tárg
 yalás – a veszélyhelyzetre való tekintettel – online\, a Microsoft Teams
 -en keresztül kerül megtartásra\, a nyilvánosság számára a részvétel elő
 zetes regisztrációhoz kötött. Regisztrálni 2021. április 12. (hétfő) 12.
 00 óráig lehet a vt-titkarsag@gvh.hu címre küldött e-mailen keresztül (a
  részvételi e-mailcím és bejelentkezési név megadásával). Tájékoztató a 
 Versenytanács tárgyalásairól
UID:28ee1a34-8b42-4e18-b192-9dd544c247c4
END:VEVENT
END:VCALENDAR
