BEGIN:VCALENDAR
PRODID:-//Dokk 5//iCal4j 1.0//EN
VERSION:2.0
CALSCALE:GREGORIAN
BEGIN:VEVENT
DTSTAMP:20260425T223042Z
DTSTART;VALUE=DATE:20210407
SUMMARY:ONLINE versenytanácsi tárgyalás lesz fogyasztókkal szembeni tiszt
 ességtelen kereskedelmi gyakorlat ügyében (DANTE INTERNATIONAL S.A.\, Ex
 treme Digital-eMAG Kft.)
LOCATION:null
DESCRIPTION:2021. április 7. (szerda) 10.00 órakor a GVH és a DANTE INTER
 NATIONAL S.A.\, Extreme Digital-eMAG Kft. között fogyasztókkal szembeni 
 tisztességtelen kereskedelmi gyakorlat ügyében versenytanácsi tárgyalás 
 lesz. Ügyiratszám: Vj-50/2018. A tárgyalás – a veszélyhelyzetre való tek
 intettel – online\, a Microsoft Teams-en keresztül kerül megtartásra\, a
  nyilvánosság számára a részvétel előzetes regisztrációhoz kötött. Regis
 ztrálni 2021. április 6. (kedd) 12.00 óráig lehet a vt-titkarsag@gvh.hu 
 címre küldött e-mailen keresztül (a részvételi e-mailcím és bejelentkezé
 si név megadásával). Tájékoztató a Versenytanács tárgyalásairól
UID:84887d5e-d0fa-4537-a4aa-194560c969c1
END:VEVENT
END:VCALENDAR
