BEGIN:VCALENDAR
PRODID:-//Dokk 5//iCal4j 1.0//EN
VERSION:2.0
CALSCALE:GREGORIAN
BEGIN:VEVENT
DTSTAMP:20260425T223042Z
DTSTART;VALUE=DATE:20210324
SUMMARY:ONLINE versenytanácsi tárgyalás lesz fogyasztókkal szembeni tiszt
 ességtelen kereskedelmi gyakorlat ügyében (MI SPORT\, spletno trgovanje\
 , d.o.o.)
LOCATION:null
DESCRIPTION:2021. március 24. (szerda) 10.00 órakor a GVH és a MI SPORT\,
  spletno trgovanje\, d.o.o. között fogyasztókkal szembeni tisztességtele
 n kereskedelmi gyakorlat ügyében versenytanácsi tárgyalás lesz.Ügyiratsz
 ám: Vj-11/2020. A tárgyalás – a veszélyhelyzetre való tekintettel – onli
 ne\, a Microsoft Teams-en keresztül kerül megtartásra\, a nyilvánosság s
 zámára a részvétel előzetes regisztrációhoz kötött. Regisztrálni 2021. m
 árcius 24. (szerda) 9.00 óráig lehet a vt-titkarsag@gvh.hu címre küldött
  e-mailen keresztül (a részvételi e-mailcím és bejelentkezési név megadá
 sával). Tájékoztató a Versenytanács tárgyalásairól  
UID:033c9393-372f-41f9-94cf-dc2565d07c76
END:VEVENT
END:VCALENDAR
