BEGIN:VCALENDAR
PRODID:-//Dokk 5//iCal4j 1.0//EN
VERSION:2.0
CALSCALE:GREGORIAN
BEGIN:VEVENT
DTSTAMP:20260425T223042Z
DTSTART;VALUE=DATE:20210323
SUMMARY:ONLINE versenytanácsi tárgyalás lesz gazdasági versenyt korlátozó
  megállapodás tilalmának tárgyában folytatott VJ/23/2011. számú versenyf
 elügyeleti eljárásban született határozat részleges hatályon kívül helye
 zése folytán indult megismételt eljárás ügyében (Mediaworks Hungary Zrt.
 )
LOCATION:null
DESCRIPTION:2021. március 23. (kedd) 13.00 órakor a GVH és a Mediaworks H
 ungary Zrt. között gazdasági versenyt korlátozó megállapodás tilalmának 
 tárgyában folytatott VJ/23/2011. számú versenyfelügyeleti eljárásban szü
 letett határozat részleges hatályon kívül helyezése folytán indult megis
 mételt eljárás ügyében versenytanácsi tárgyalás lesz. Ügyiratszám: Vj-36
 /2020. A tárgyalás – a veszélyhelyzetre való tekintettel – online\, a Mi
 crosoft Teams-en keresztül kerül megtartásra\, a nyilvánosság számára a 
 részvétel előzetes regisztrációhoz kötött. Regisztrálni 2021. március 22
 . (hétfő) 12.00 óráig lehet a vt-titkarsag@gvh.hu címre küldött e-mailen
  keresztül (a részvételi e-mailcím és bejelentkezési név megadásával). T
 ájékoztató a Versenytanács tárgyalásairól
UID:f55c381e-7302-4818-b191-c76f173629f6
END:VEVENT
END:VCALENDAR
