BEGIN:VCALENDAR
PRODID:-//Dokk 5//iCal4j 1.0//EN
VERSION:2.0
CALSCALE:GREGORIAN
BEGIN:VEVENT
DTSTAMP:20260425T223040Z
DTSTART;VALUE=DATE:20210319
SUMMARY:ONLINE versenytanácsi tárgyalás lesz gazdasági versenyt korlátozó
  megállapodás tilalmának feltételezett megsértése ügyében (Nitrogénművek
  Vegyipari Zrt. és társai)
LOCATION:null
DESCRIPTION:2021. március 19. (péntek) 10.00 órakor a GVH és a Nitrogénmű
 vek Vegyipari Zrt. és társai között gazdasági versenyt korlátozó megálla
 podás tilalmának feltételezett megsértése ügyében versenytanácsi tárgyal
 ás lesz. Ügyiratszám: Vj-41/2017. A tárgyalás – a veszélyhelyzetre való 
 tekintettel – online\, a Microsoft Teams-en keresztül kerül megtartásra\
 , a nyilvánosság számára a részvétel előzetes regisztrációhoz kötött. Re
 gisztrálni 2021. március 18. (csütörtök) 12.00 óráig lehet a vt-titkarsa
 g@gvh.hu címre küldött e-mailen keresztül (a részvételi e-mail cím és be
 jelentkezési név megadásával). Tájékoztató a Versenytanács tárgyalásairó
 l
UID:853a0a61-a141-42c5-9ae7-e9e4a97a6cb3
END:VEVENT
END:VCALENDAR
