BEGIN:VCALENDAR
PRODID:-//Dokk 5//iCal4j 1.0//EN
VERSION:2.0
CALSCALE:GREGORIAN
BEGIN:VEVENT
DTSTAMP:20260425T223040Z
DTSTART;VALUE=DATE:20210312
SUMMARY:ONLINE versenytanácsi tárgyalás lesz a Vj/15/2014. számú eljárásh
 oz kapcsolódó utóvizsgálati eljárás ügyében (ARTISJUS Magyar Szerzői Jog
 védő Iroda Egyesület és társai)
LOCATION:null
DESCRIPTION:2021. március 12. (péntek) 9.30 órakor a GVH és az ARTISJUS M
 agyar Szerzői Jogvédő Iroda Egyesület és társai között a Vj/15/2014. szá
 mú eljáráshoz kapcsolódó utóvizsgálati eljárás ügyében versenytanácsi tá
 rgyalás lesz. Ügyiratszám: Vj-5/2018. A tárgyalás – a veszélyhelyzetre v
 aló tekintettel – online\, a Microsoft Teams-en keresztül kerül megtartá
 sra\, a nyilvánosság számára a részvétel előzetes regisztrációhoz kötött
 . Regisztrálni 2021. március 11. (csütörtök) 12.00 óráig lehet a vt.titk
 arsag@gvh.hu címre küldött e-mailen keresztül (a részvételi e-mail cím é
 s bejelentkezési név megadásával). Tájékoztató a Versenytanács tárgyalás
 airól
UID:f97b9451-cae9-4393-8cc0-49dcb2b47171
END:VEVENT
END:VCALENDAR
